BEGIN:VCALENDAR
VERSION:2.0
PRODID:-//Carthage News Online - ECPv6.15.20//NONSGML v1.0//EN
CALSCALE:GREGORIAN
METHOD:PUBLISH
X-ORIGINAL-URL:https://carthagenewsonline.com
X-WR-CALDESC:Events for Carthage News Online
REFRESH-INTERVAL;VALUE=DURATION:PT1H
X-Robots-Tag:noindex
X-PUBLISHED-TTL:PT1H
BEGIN:VTIMEZONE
TZID:America/Chicago
BEGIN:DAYLIGHT
TZOFFSETFROM:-0600
TZOFFSETTO:-0500
TZNAME:CDT
DTSTART:20250309T080000
END:DAYLIGHT
BEGIN:STANDARD
TZOFFSETFROM:-0500
TZOFFSETTO:-0600
TZNAME:CST
DTSTART:20251102T070000
END:STANDARD
BEGIN:DAYLIGHT
TZOFFSETFROM:-0600
TZOFFSETTO:-0500
TZNAME:CDT
DTSTART:20260308T080000
END:DAYLIGHT
BEGIN:STANDARD
TZOFFSETFROM:-0500
TZOFFSETTO:-0600
TZNAME:CST
DTSTART:20261101T070000
END:STANDARD
BEGIN:DAYLIGHT
TZOFFSETFROM:-0600
TZOFFSETTO:-0500
TZNAME:CDT
DTSTART:20270314T080000
END:DAYLIGHT
BEGIN:STANDARD
TZOFFSETFROM:-0500
TZOFFSETTO:-0600
TZNAME:CST
DTSTART:20271107T070000
END:STANDARD
END:VTIMEZONE
BEGIN:VEVENT
DTSTART;TZID=America/Chicago:20260503T130000
DTEND;TZID=America/Chicago:20260503T160000
DTSTAMP:20260425T152030
CREATED:20260321T175249Z
LAST-MODIFIED:20260321T175250Z
UID:10001458-1777813200-1777824000@carthagenewsonline.com
SUMMARY:Dumpster Day May 3
DESCRIPTION:Dumpster Day include lawn clippings\, hot water tanks\, paint\, and chemicals. Dumpster Day will take place from 1 p.m. to 4 p.m. on Sunday\, May 3\, at the Fair Acres Sports Complex parking area located at 800 George E. Phelps Blvd.\, in Carthage.F
URL:https://carthagenewsonline.com/event/dumpster-day-may-3/
LOCATION:Fair Acres Sports Complex\, 800 George E. Phelps Blvd.\, Carthage\, MO\, 64836\, United States
CATEGORIES:Outdoor
ATTACH;FMTTYPE=image/jpeg:https://carthagenewsonline.com/wp-content/uploads/2026/03/dumpster-traffic-flow-map.jpg
END:VEVENT
END:VCALENDAR